BEGIN:VCALENDAR
VERSION:2.0
PRODID:-//Diana Lloyd - ECPv6.15.20//NONSGML v1.0//EN
CALSCALE:GREGORIAN
METHOD:PUBLISH
X-ORIGINAL-URL:https://www.dianalloydbooks.com
X-WR-CALDESC:Events for Diana Lloyd
REFRESH-INTERVAL;VALUE=DURATION:PT1H
X-Robots-Tag:noindex
X-PUBLISHED-TTL:PT1H
BEGIN:VTIMEZONE
TZID:UTC
BEGIN:STANDARD
TZOFFSETFROM:+0000
TZOFFSETTO:+0000
TZNAME:UTC
DTSTART:20190101T000000
END:STANDARD
END:VTIMEZONE
BEGIN:VTIMEZONE
TZID:America/Cambridge_Bay
BEGIN:DAYLIGHT
TZOFFSETFROM:-0700
TZOFFSETTO:-0600
TZNAME:MDT
DTSTART:20190310T090000
END:DAYLIGHT
BEGIN:STANDARD
TZOFFSETFROM:-0600
TZOFFSETTO:-0700
TZNAME:MST
DTSTART:20191103T080000
END:STANDARD
BEGIN:DAYLIGHT
TZOFFSETFROM:-0700
TZOFFSETTO:-0600
TZNAME:MDT
DTSTART:20200308T090000
END:DAYLIGHT
BEGIN:STANDARD
TZOFFSETFROM:-0600
TZOFFSETTO:-0700
TZNAME:MST
DTSTART:20201101T080000
END:STANDARD
BEGIN:DAYLIGHT
TZOFFSETFROM:-0700
TZOFFSETTO:-0600
TZNAME:MDT
DTSTART:20210314T090000
END:DAYLIGHT
BEGIN:STANDARD
TZOFFSETFROM:-0600
TZOFFSETTO:-0700
TZNAME:MST
DTSTART:20211107T080000
END:STANDARD
END:VTIMEZONE
BEGIN:VEVENT
DTSTART;VALUE=DATE:20200217
DTEND;VALUE=DATE:20200218
DTSTAMP:20260423T142234
CREATED:20200216T234532Z
LAST-MODIFIED:20200216T234532Z
UID:600-1581897600-1581983999@www.dianalloydbooks.com
SUMMARY:Four Foxes One Hound
DESCRIPTION:Four Foxes One Hound – What gets your geek on?
URL:https://www.dianalloydbooks.com/events/four-foxes-one-hound-2/
END:VEVENT
BEGIN:VEVENT
DTSTART;VALUE=DATE:20200217
DTEND;VALUE=DATE:20200218
DTSTAMP:20260423T142234
CREATED:20200119T020643Z
LAST-MODIFIED:20200119T020643Z
UID:562-1581897600-1581983999@www.dianalloydbooks.com
SUMMARY:FOUR FOXES ONE HOUND
DESCRIPTION:Chatting with one of the Foxes @ Four Foxes One Hound
URL:https://www.dianalloydbooks.com/events/four-foxes-one-hound/
END:VEVENT
BEGIN:VEVENT
DTSTART;VALUE=DATE:20200210
DTEND;VALUE=DATE:20200211
DTSTAMP:20260423T142234
CREATED:20200119T022536Z
LAST-MODIFIED:20200119T022536Z
UID:578-1581292800-1581379199@www.dianalloydbooks.com
SUMMARY:ROBIN LOVES READING reviews ABOUT AN EARL
DESCRIPTION:ABOUT AN EARL @ Robin Loves Reading blog
URL:https://www.dianalloydbooks.com/events/robin-loves-reading-reviews-about-an-earl/
END:VEVENT
BEGIN:VEVENT
DTSTART;VALUE=DATE:20200209
DTEND;VALUE=DATE:20200210
DTSTAMP:20260423T142234
CREATED:20200119T022313Z
LAST-MODIFIED:20200119T022313Z
UID:576-1581206400-1581292799@www.dianalloydbooks.com
SUMMARY:REVIEW OF ABOUT AN EARL
DESCRIPTION:YA\, It’s Lit blog reviews ABOUT AN EARL
URL:https://www.dianalloydbooks.com/events/review-of-about-an-earl/
END:VEVENT
BEGIN:VEVENT
DTSTART;VALUE=DATE:20200208
DTEND;VALUE=DATE:20200209
DTSTAMP:20260423T142234
CREATED:20200119T022115Z
LAST-MODIFIED:20200119T022115Z
UID:574-1581120000-1581206399@www.dianalloydbooks.com
SUMMARY:HISTORICAL FICTION WITH SPIRIT
DESCRIPTION:Historical Fiction with Spirit reviews ABOUT AN EARL
URL:https://www.dianalloydbooks.com/events/historical-fiction-with-spirit/
END:VEVENT
BEGIN:VEVENT
DTSTART;VALUE=DATE:20200207
DTEND;VALUE=DATE:20200208
DTSTAMP:20260423T142234
CREATED:20200119T021914Z
LAST-MODIFIED:20200119T021914Z
UID:572-1581033600-1581119999@www.dianalloydbooks.com
SUMMARY:LOCKS\, HOOKS & BOOKS
DESCRIPTION:Review of ABOUT AN EARL @ Locks\, Hooks and Books blog
URL:https://www.dianalloydbooks.com/events/locks-hooks-books/
END:VEVENT
BEGIN:VEVENT
DTSTART;VALUE=DATE:20200206
DTEND;VALUE=DATE:20200207
DTSTAMP:20260423T142234
CREATED:20200119T021657Z
LAST-MODIFIED:20200119T021657Z
UID:570-1580947200-1581033599@www.dianalloydbooks.com
SUMMARY:BOOKS IN THEIR NATURAL HABITAT
DESCRIPTION:ABOUT AN EARL review @ Books In Their Natural Habitat
URL:https://www.dianalloydbooks.com/events/books-in-their-natural-habitat/
END:VEVENT
BEGIN:VEVENT
DTSTART;VALUE=DATE:20200206
DTEND;VALUE=DATE:20200207
DTSTAMP:20260423T142234
CREATED:20200119T021447Z
LAST-MODIFIED:20200119T021447Z
UID:568-1580947200-1581033599@www.dianalloydbooks.com
SUMMARY:ABOUT AN EARL @ A Chick who Reads blog
DESCRIPTION:A Chick who Reads blog reviews ABOUT AN EARL 
URL:https://www.dianalloydbooks.com/events/about-an-earl-a-chick-who-reads-blog/
END:VEVENT
BEGIN:VEVENT
DTSTART;VALUE=DATE:20200205
DTEND;VALUE=DATE:20200206
DTSTAMP:20260423T142234
CREATED:20200119T021151Z
LAST-MODIFIED:20200119T021151Z
UID:566-1580860800-1580947199@www.dianalloydbooks.com
SUMMARY:ABOUT AN EARL @ Donna's Book Blog
DESCRIPTION:Donna’s Book Blog reviews ABOUT AN EARL 
URL:https://www.dianalloydbooks.com/events/about-an-earl-donnas-book-blog/
END:VEVENT
BEGIN:VEVENT
DTSTART;VALUE=DATE:20200203
DTEND;VALUE=DATE:20200204
DTSTAMP:20260423T142234
CREATED:20200119T020916Z
LAST-MODIFIED:20200119T020916Z
UID:564-1580688000-1580774399@www.dianalloydbooks.com
SUMMARY:ABOUT AN EARL @ Unabridged Chick
DESCRIPTION:Unabridged Chick reviews ABOUT AN EARL 
URL:https://www.dianalloydbooks.com/events/about-an-earl-unabridged-chick/
END:VEVENT
BEGIN:VEVENT
DTSTART;VALUE=DATE:20200131
DTEND;VALUE=DATE:20200201
DTSTAMP:20260423T142234
CREATED:20200119T020345Z
LAST-MODIFIED:20200119T020345Z
UID:560-1580428800-1580515199@www.dianalloydbooks.com
SUMMARY:HISTORICAL GRAFFITI reviews ABOUT AN EARL
DESCRIPTION:ABOUT AN EARL @ Historical Graffiti blog (you will be asked to confirm you are of age to view this blog)
URL:https://www.dianalloydbooks.com/events/historical-graffiti-reviews-about-an-earl/
END:VEVENT
BEGIN:VEVENT
DTSTART;VALUE=DATE:20200131
DTEND;VALUE=DATE:20200201
DTSTAMP:20260423T142234
CREATED:20200119T015954Z
LAST-MODIFIED:20200119T015954Z
UID:558-1580428800-1580515199@www.dianalloydbooks.com
SUMMARY:ABOUT AN EARL @ I'm Into Books
DESCRIPTION:I’m Into Books blog reviews ABOUT AN EARL 
URL:https://www.dianalloydbooks.com/events/about-an-earl-im-into-books/
END:VEVENT
BEGIN:VEVENT
DTSTART;VALUE=DATE:20200130
DTEND;VALUE=DATE:20200131
DTSTAMP:20260423T142234
CREATED:20200119T015725Z
LAST-MODIFIED:20200119T015725Z
UID:556-1580342400-1580428799@www.dianalloydbooks.com
SUMMARY:Gwendalyn's Books reviews ABOUT AN EARL
DESCRIPTION:ABOUT AN EARL @ Gwendalyn’s Books Blog 
URL:https://www.dianalloydbooks.com/events/gwendalyns-books-reviews-about-an-earl/
END:VEVENT
BEGIN:VEVENT
DTSTART;VALUE=DATE:20200129
DTEND;VALUE=DATE:20200130
DTSTAMP:20260423T142234
CREATED:20200119T015356Z
LAST-MODIFIED:20200119T015356Z
UID:554-1580256000-1580342399@www.dianalloydbooks.com
SUMMARY:INTERVIEW at PASSAGES TO THE PAST
DESCRIPTION:My interview at Passages to the Past
URL:https://www.dianalloydbooks.com/events/interview-at-passages-to-the-past/
END:VEVENT
BEGIN:VEVENT
DTSTART;VALUE=DATE:20200128
DTEND;VALUE=DATE:20200129
DTSTAMP:20260423T142234
CREATED:20200119T015119Z
LAST-MODIFIED:20200119T015119Z
UID:552-1580169600-1580255999@www.dianalloydbooks.com
SUMMARY:HISTORICAL ROMANCE LOVER
DESCRIPTION:ABOUT AN EARL review @ Historical Romance Lover blog 
URL:https://www.dianalloydbooks.com/events/historical-romance-lover/
END:VEVENT
BEGIN:VEVENT
DTSTART;VALUE=DATE:20200127
DTEND;VALUE=DATE:20200128
DTSTAMP:20260423T142234
CREATED:20200119T011157Z
LAST-MODIFIED:20200119T011157Z
UID:535-1580083200-1580169599@www.dianalloydbooks.com
SUMMARY:LAUNCH PARTY FOR ABOUT AN EARL
DESCRIPTION:Historical Fiction Virtual Book Tours *PRESENTS* a Facebook LAUNCH PARTY for ABOUT AN EARL
URL:https://www.dianalloydbooks.com/events/launch-party-for-about-an-earl/
END:VEVENT
BEGIN:VEVENT
DTSTART;VALUE=DATE:20200127
DTEND;VALUE=DATE:20200128
DTSTAMP:20260423T142234
CREATED:20200119T014911Z
LAST-MODIFIED:20200119T014911Z
UID:550-1580083200-1580169599@www.dianalloydbooks.com
SUMMARY:ROSE IS READING
DESCRIPTION:Review of ABOUT AN EARL at Rose is Reading Blog
URL:https://www.dianalloydbooks.com/events/rose-is-reading/
END:VEVENT
BEGIN:VEVENT
DTSTART;VALUE=DATE:20200127
DTEND;VALUE=DATE:20200128
DTSTAMP:20260423T142234
CREATED:20200119T014625Z
LAST-MODIFIED:20200119T014625Z
UID:548-1580083200-1580169599@www.dianalloydbooks.com
SUMMARY:I STOP BY HARLEQUIN JUNKIES
DESCRIPTION:Talking about ABOUT AN EARL on Harlequin Junkies
URL:https://www.dianalloydbooks.com/events/i-stop-by-harlequin-junkies/
END:VEVENT
BEGIN:VEVENT
DTSTART;VALUE=DATE:20200124
DTEND;VALUE=DATE:20200125
DTSTAMP:20260423T142234
CREATED:20200119T014308Z
LAST-MODIFIED:20200119T014308Z
UID:545-1579824000-1579910399@www.dianalloydbooks.com
SUMMARY:I VISIT WRITERSPACE and Give Away a $10 Amazon giftcard
DESCRIPTION:Bullwinkle J Moose Reads the Tarot on Writerpace
URL:https://www.dianalloydbooks.com/events/i-visit-writerspace-and-give-away-a-10-amazon-giftcard/
END:VEVENT
BEGIN:VEVENT
DTSTART;VALUE=DATE:20200122
DTEND;VALUE=DATE:20200123
DTSTAMP:20260423T142234
CREATED:20200119T012414Z
LAST-MODIFIED:20200119T012414Z
UID:543-1579651200-1579737599@www.dianalloydbooks.com
SUMMARY:I VISIT FRESH FICTION
DESCRIPTION:See my take on Perfection in Fresh Fiction
URL:https://www.dianalloydbooks.com/events/i-visit-fresh-fiction/
END:VEVENT
BEGIN:VEVENT
DTSTART;VALUE=DATE:20200122
DTEND;VALUE=DATE:20200123
DTSTAMP:20260423T142234
CREATED:20200119T011816Z
LAST-MODIFIED:20200119T011833Z
UID:540-1579651200-1579737599@www.dianalloydbooks.com
SUMMARY:GET LOST IN A STORY
DESCRIPTION:Get lost in a Story\, Angi Morgan reviews ABOUT AN EARL
URL:https://www.dianalloydbooks.com/events/get-lost-in-a-story/
END:VEVENT
END:VCALENDAR